View In:
ArcGIS JavaScript
ArcGIS Online Map Viewer
ArcGIS Earth
ArcMap
View Footprint In:
ArcGIS Online Map Viewer
Service Description: Imagery/DEM_Region
Name: Imagery/DEM_Region
Description:
Single Fused Map Cache: false
Extent:
XMin: 558145.3491263196
YMin: 3594667.7706644284
XMax: 661773.0418035971
YMax: 3666833.4642883833
Spatial Reference: 26917
(26917)
Initial Extent:
XMin: 558145.3491263196
YMin: 3594667.7706644284
XMax: 661773.0418035971
YMax: 3666833.4642883833
Spatial Reference: 26917
(26917)
Full Extent:
XMin: 558145.3491263196
YMin: 3594667.7706644284
XMax: 661773.0418035971
YMax: 3666833.4642883833
Spatial Reference: 26917
(26917)
Pixel Size X: 3.0480526112499997
Pixel Size Y: 3.0480526112499957
Band Count: 1
Pixel Type: F32
RasterFunction Infos: {"rasterFunctionInfos": [{
"name": "None",
"description": "",
"help": ""
}]}
Mensuration Capabilities: Basic
Has Histograms: false
Has Colormap: false
Has Multi Dimensions : false
Rendering Rule:
Min Scale: 0
Max Scale: 0
Copyright Text:
Service Data Type: esriImageServiceDataTypeGeneric
Min Values: -44.10710906982422
Max Values: 86.24366760253906
Mean Values: 9.610067060799617
Standard Deviation Values: 12.231839737973665
Object ID Field:
Fields:
None
Default Mosaic Method: Center
Allowed Mosaic Methods:
SortField:
SortValue: null
Mosaic Operator: First
Default Compression Quality: 75
Default Resampling Method: Bilinear
Max Record Count: null
Max Image Height: 4100
Max Image Width: 15000
Max Download Image Count: null
Max Mosaic Image Count: null
Allow Raster Function: true
Allow Compute TiePoints: false
Supports Statistics: false
Supports Advanced Queries: false
Use StandardizedQueries: true
Raster Type Infos:
Name: Raster Dataset
Description: Supports all ArcGIS Raster Datasets
Help:
Has Raster Attribute Table: false
Edit Fields Info: null
Ownership Based AccessControl For Rasters: null
Child Resources:
Info
Key Properties
Legend
MultiDimensionalInfo
rasterFunctionInfos
Supported Operations:
Export Image
Identify
Measure
Compute Histograms
Compute Statistics Histograms
Get Samples
Compute Class Statistics
Query Boundary
Compute Pixel Location