View In:
ArcGIS JavaScript
ArcGIS Online Map Viewer
ArcGIS Earth
ArcMap
View Footprint In:
ArcGIS Online Map Viewer
Service Description: Imagery/2017_Pictomoetry_Imgsrv
Name: Imagery/2017_Pictomoetry_Imgsrv
Description:
Single Fused Map Cache: false
Extent:
XMin: 2187894.253700152
YMin: 239294.6514141166
XMax: 2507350.0571447564
YMax: 479809.53044208884
Spatial Reference: 102733
(102733)
Initial Extent:
XMin: 2187894.253700152
YMin: 239294.6514141166
XMax: 2507350.0571447564
YMax: 479809.53044208884
Spatial Reference: 102733
(102733)
Full Extent:
XMin: 2187894.253700152
YMin: 239294.6514141166
XMax: 2507350.0571447564
YMax: 479809.53044208884
Spatial Reference: 102733
(102733)
Pixel Size X: 0.4897991215277781
Pixel Size Y: 0.48979912152777777
Band Count: 3
Pixel Type: U8
RasterFunction Infos: {"rasterFunctionInfos": [{
"name": "None",
"description": "",
"help": ""
}]}
Mensuration Capabilities: Basic
Has Histograms: false
Has Colormap: false
Has Multi Dimensions : false
Rendering Rule:
Min Scale: 0
Max Scale: 0
Copyright Text:
Service Data Type: esriImageServiceDataTypeRGB
Min Values: N/A
Max Values: N/A
Mean Values: N/A
Standard Deviation Values: N/A
Object ID Field:
Fields:
None
Default Mosaic Method: Center
Allowed Mosaic Methods:
SortField:
SortValue: null
Mosaic Operator: First
Default Compression Quality: 75
Default Resampling Method: Bilinear
Max Record Count: null
Max Image Height: 4100
Max Image Width: 15000
Max Download Image Count: null
Max Mosaic Image Count: null
Allow Raster Function: true
Allow Compute TiePoints: false
Supports Statistics: false
Supports Advanced Queries: false
Use StandardizedQueries: true
Raster Type Infos:
Name: Raster Dataset
Description: Supports all ArcGIS Raster Datasets
Help:
Has Raster Attribute Table: false
Edit Fields Info: null
Ownership Based AccessControl For Rasters: null
Child Resources:
Info
Key Properties
Legend
MultiDimensionalInfo
rasterFunctionInfos
Supported Operations:
Export Image
Identify
Measure
Compute Histograms
Compute Statistics Histograms
Get Samples
Compute Class Statistics
Query Boundary
Compute Pixel Location